BEGIN:VCALENDAR
VERSION:2.0
PRODID:-//wp-events-plugin.com//7.2.3.1//EN
TZID:Europe/Vienna
X-WR-TIMEZONE:Europe/Vienna
BEGIN:VEVENT
UID:431@begegnungszentrum-voitsberg.at
DTSTART;TZID=Europe/Vienna:20260513T090000
DTEND;TZID=Europe/Vienna:20260513T120000
DTSTAMP:20251215T150638Z
URL:https://begegnungszentrum-voitsberg.at/events/digitale-sprechstunde-3-
 2026-01-07-2026-01-14-2026-01-21-2026-01-28-2026-02-04-2026-02-11-2026-02-
 18-2026-02-25-2026-03-04-2026-03-11-2026-03-18-2026-03-25-2026-04-01-2026-
 04-08-2026-04-06-2026-05-13/
SUMMARY:Digitale Sprechstunde
DESCRIPTION:Einzelberatung zu Smartphone\, Tablet &amp\; PC für Frauen und
  Männer 55-plus\n\nBitte um Anmeldung unter 03142 93030
CATEGORIES:Digitaler Mittwoch
END:VEVENT
BEGIN:VTIMEZONE
TZID:Europe/Vienna
X-LIC-LOCATION:Europe/Vienna
BEGIN:DAYLIGHT
DTSTART:20260329T030000
TZOFFSETFROM:+0100
TZOFFSETTO:+0200
TZNAME:CEST
END:DAYLIGHT
END:VTIMEZONE
END:VCALENDAR