BEGIN:VCALENDAR
VERSION:2.0
PRODID:-//wp-events-plugin.com//7.2.3.1//EN
TZID:Europe/Vienna
X-WR-TIMEZONE:Europe/Vienna
BEGIN:VEVENT
UID:559@begegnungszentrum-voitsberg.at
DTSTART;TZID=Europe/Vienna:20260407T090000
DTEND;TZID=Europe/Vienna:20260602T103000
DTSTAMP:20260331T100448Z
URL:https://begegnungszentrum-voitsberg.at/events/gemeinsam-singen-4/
SUMMARY:Gemeinsam Singen
DESCRIPTION:Gemeinsames Singen bekannter alter und neuer Lieder inklusive I
 nstrumentalbegleitung. Egal ob mit oder ohne musikalische Vorkenntnisse  
 - alle sind herzlich willkomme\n\nGeleitet wird das gemeinsame Singen von 
 Tanja Stock und Inge Benezeder von der Musikschule Voitsberg.\n\nKomm vorb
 ei - sei dabei!
CATEGORIES:Mitmach Dienstag
END:VEVENT
BEGIN:VTIMEZONE
TZID:Europe/Vienna
X-LIC-LOCATION:Europe/Vienna
BEGIN:DAYLIGHT
DTSTART:20260329T030000
TZOFFSETFROM:+0100
TZOFFSETTO:+0200
TZNAME:CEST
END:DAYLIGHT
END:VTIMEZONE
END:VCALENDAR