BEGIN:VCALENDAR
VERSION:2.0
PRODID:-//wp-events-plugin.com//7.2.3.1//EN
TZID:Europe/Vienna
X-WR-TIMEZONE:Europe/Vienna
BEGIN:VEVENT
UID:462@begegnungszentrum-voitsberg.at
DTSTART;TZID=Europe/Vienna:20260610T130000
DTEND;TZID=Europe/Vienna:20260610T160000
DTSTAMP:20251215T151221Z
URL:https://begegnungszentrum-voitsberg.at/events/pleiten-pech-und-pannen-
 am-handy-da-werden-sie-geholfen-3-2026-01-07-2026-01-14-2026-01-21-2026-01
 -28-2026-02-04-2026-02-11-2026-02-18-2026-02-25-2026-03-04-2026-03-11-2026
 -03-18-2026-03-03-2026-06-10/
SUMMARY:Pleiten\, Pech und Pannen am Handy "Da werden Sie geholfen"
DESCRIPTION:Das Handy lässt sich nicht mehr einschalten oder Sie haben irr
 tümlich ein Foto gelöscht? Sie haben eine seltsame Nachricht bekommen un
 d wissen nicht weiter?\n\nWir schauen uns das gemeinsam an - kommen Sie ei
 nfach vorbei.
CATEGORIES:Digitaler Mittwoch
END:VEVENT
BEGIN:VTIMEZONE
TZID:Europe/Vienna
X-LIC-LOCATION:Europe/Vienna
BEGIN:DAYLIGHT
DTSTART:20260329T030000
TZOFFSETFROM:+0100
TZOFFSETTO:+0200
TZNAME:CEST
END:DAYLIGHT
END:VTIMEZONE
END:VCALENDAR