BEGIN:VCALENDAR
VERSION:2.0
PRODID:-//wp-events-plugin.com//7.2.3.1//EN
TZID:Europe/Vienna
X-WR-TIMEZONE:Europe/Vienna
BEGIN:VEVENT
UID:500@begegnungszentrum-voitsberg.at
DTSTART;TZID=Europe/Vienna:20260108T093000
DTEND;TZID=Europe/Vienna:20260305T110000
DTSTAMP:20251216T131604Z
URL:https://begegnungszentrum-voitsberg.at/event-recurring/vorlesezauber-m
 it-lebensgross/
SUMMARY:Vorlesezauber mit LebensGroß
DESCRIPTION:Beim Vorlesezauber mit LebensGroß tauchen wir in magische Bild
 erbücher ein. In gemütlicher Atmosphäre wird gemeinsam gelesen\, gestau
 nt und anschließend kreativ gebastelt.\n\nKomm vorbei - sei dabei!
CATEGORIES:Bunter Donnerstag
END:VEVENT
BEGIN:VTIMEZONE
TZID:Europe/Vienna
X-LIC-LOCATION:Europe/Vienna
BEGIN:STANDARD
DTSTART:20251026T020000
TZOFFSETFROM:+0200
TZOFFSETTO:+0100
TZNAME:CET
END:STANDARD
END:VTIMEZONE
END:VCALENDAR